BEGIN:VCALENDAR
VERSION:2.0
PRODID:-//Suomen somalialaisten liitto - ECPv6.15.12.2//NONSGML v1.0//EN
CALSCALE:GREGORIAN
METHOD:PUBLISH
X-ORIGINAL-URL:https://somaliliitto.fi
X-WR-CALDESC:Tapahtumat Suomen somalialaisten liitto
REFRESH-INTERVAL;VALUE=DURATION:PT1H
X-Robots-Tag:noindex
X-PUBLISHED-TTL:PT1H
BEGIN:VTIMEZONE
TZID:Europe/Helsinki
BEGIN:DAYLIGHT
TZOFFSETFROM:+0200
TZOFFSETTO:+0300
TZNAME:EEST
DTSTART:20240331T010000
END:DAYLIGHT
BEGIN:STANDARD
TZOFFSETFROM:+0300
TZOFFSETTO:+0200
TZNAME:EET
DTSTART:20241027T010000
END:STANDARD
BEGIN:DAYLIGHT
TZOFFSETFROM:+0200
TZOFFSETTO:+0300
TZNAME:EEST
DTSTART:20250330T010000
END:DAYLIGHT
BEGIN:STANDARD
TZOFFSETFROM:+0300
TZOFFSETTO:+0200
TZNAME:EET
DTSTART:20251026T010000
END:STANDARD
BEGIN:DAYLIGHT
TZOFFSETFROM:+0200
TZOFFSETTO:+0300
TZNAME:EEST
DTSTART:20260329T010000
END:DAYLIGHT
BEGIN:STANDARD
TZOFFSETFROM:+0300
TZOFFSETTO:+0200
TZNAME:EET
DTSTART:20261025T010000
END:STANDARD
END:VTIMEZONE
BEGIN:VEVENT
DTSTART;TZID=Europe/Helsinki:20251111T150000
DTEND;TZID=Europe/Helsinki:20251111T163000
DTSTAMP:20260422T015909
CREATED:20251103T080355Z
LAST-MODIFIED:20251103T080355Z
UID:11139-1762873200-1762878600@somaliliitto.fi
SUMMARY:Nuoret ja päihteet - missä mennään? -webinaari (TUVA)
DESCRIPTION:Somalialaistaustaisten nuorten päihteiden käyttö ja niihin kytkeytyvä rikollisuus -webinaari \n11.11.2025 klo 15.00 – 16.30 \nSomalialaistaustaisten nuorten päihdetilanne\nMahad Sheikh Musse\, A-klinikkasäätiön Jalma-hanke \nSomalialaistaustaiset nuoret ja rikosten seuraamukset\nHamze Ahmed\, Diakonissalaitoksen UNIT-palvelu \nVanhemmat ja nuorten päihteiden käyttö\nSugulle Salah\, SSL:n Turvalliset valinnat yhteisön tuella -hanke \nIlmoittaudu viimeistään 10.11.: https://forms.office.com/e/wBc6cNWKS4
URL:https://somaliliitto.fi/tapahtumat/nuoret-ja-paihteet-missa-mennaan-webinaari-tuva/
CATEGORIES:TUVA-hankkeen tapahtumat
END:VEVENT
END:VCALENDAR