BEGIN:VCALENDAR
VERSION:2.0
PRODID:-//Suomen somalialaisten liitto - ECPv6.15.12.2//NONSGML v1.0//EN
CALSCALE:GREGORIAN
METHOD:PUBLISH
X-WR-CALNAME:Suomen somalialaisten liitto
X-ORIGINAL-URL:https://somaliliitto.fi
X-WR-CALDESC:Tapahtumat Suomen somalialaisten liitto
REFRESH-INTERVAL;VALUE=DURATION:PT1H
X-Robots-Tag:noindex
X-PUBLISHED-TTL:PT1H
BEGIN:VTIMEZONE
TZID:Europe/Helsinki
BEGIN:DAYLIGHT
TZOFFSETFROM:+0200
TZOFFSETTO:+0300
TZNAME:EEST
DTSTART:20240331T010000
END:DAYLIGHT
BEGIN:STANDARD
TZOFFSETFROM:+0300
TZOFFSETTO:+0200
TZNAME:EET
DTSTART:20241027T010000
END:STANDARD
BEGIN:DAYLIGHT
TZOFFSETFROM:+0200
TZOFFSETTO:+0300
TZNAME:EEST
DTSTART:20250330T010000
END:DAYLIGHT
BEGIN:STANDARD
TZOFFSETFROM:+0300
TZOFFSETTO:+0200
TZNAME:EET
DTSTART:20251026T010000
END:STANDARD
BEGIN:DAYLIGHT
TZOFFSETFROM:+0200
TZOFFSETTO:+0300
TZNAME:EEST
DTSTART:20260329T010000
END:DAYLIGHT
BEGIN:STANDARD
TZOFFSETFROM:+0300
TZOFFSETTO:+0200
TZNAME:EET
DTSTART:20261025T010000
END:STANDARD
END:VTIMEZONE
BEGIN:VEVENT
DTSTART;TZID=Europe/Helsinki:20251117T100000
DTEND;TZID=Europe/Helsinki:20251117T150000
DTSTAMP:20260421T165405
CREATED:20251103T075148Z
LAST-MODIFIED:20251103T075148Z
UID:11131-1763373600-1763391600@somaliliitto.fi
SUMMARY:Yleinen neuvonta
DESCRIPTION:Suomen somalialaisten liiton yleinen neuvontapalvelu on auki maanantaisin ja keskiviikkoisin klo 10-15. Muina aikoina neuvonta ajanvarauksella\, katso yhteystiedot.
URL:https://somaliliitto.fi/tapahtumat/yleinen-neuvonta-57/
END:VEVENT
BEGIN:VEVENT
DTSTART;TZID=Europe/Helsinki:20251117T170000
DTEND;TZID=Europe/Helsinki:20251117T183000
DTSTAMP:20260421T165405
CREATED:20251028T085738Z
LAST-MODIFIED:20251028T085738Z
UID:11119-1763398800-1763404200@somaliliitto.fi
SUMMARY:Kokemusasiantuntijailta (SAMANU)
DESCRIPTION:
URL:https://somaliliitto.fi/tapahtumat/kokemusasiantuntijailta-samanu-3/
LOCATION:Suomen somalialaisten liiton toimisto\, Opastinsilta 6J\, Helsinki\, 00520
CATEGORIES:SAMANU-hankkeen tapahtumat
END:VEVENT
END:VCALENDAR