BEGIN:VCALENDAR
VERSION:2.0
PRODID:-//Suomen somalialaisten liitto - ECPv6.15.12.2//NONSGML v1.0//EN
CALSCALE:GREGORIAN
METHOD:PUBLISH
X-WR-CALNAME:Suomen somalialaisten liitto
X-ORIGINAL-URL:https://somaliliitto.fi
X-WR-CALDESC:Tapahtumat Suomen somalialaisten liitto
REFRESH-INTERVAL;VALUE=DURATION:PT1H
X-Robots-Tag:noindex
X-PUBLISHED-TTL:PT1H
BEGIN:VTIMEZONE
TZID:Europe/Helsinki
BEGIN:DAYLIGHT
TZOFFSETFROM:+0200
TZOFFSETTO:+0300
TZNAME:EEST
DTSTART:20240331T010000
END:DAYLIGHT
BEGIN:STANDARD
TZOFFSETFROM:+0300
TZOFFSETTO:+0200
TZNAME:EET
DTSTART:20241027T010000
END:STANDARD
BEGIN:DAYLIGHT
TZOFFSETFROM:+0200
TZOFFSETTO:+0300
TZNAME:EEST
DTSTART:20250330T010000
END:DAYLIGHT
BEGIN:STANDARD
TZOFFSETFROM:+0300
TZOFFSETTO:+0200
TZNAME:EET
DTSTART:20251026T010000
END:STANDARD
BEGIN:DAYLIGHT
TZOFFSETFROM:+0200
TZOFFSETTO:+0300
TZNAME:EEST
DTSTART:20260329T010000
END:DAYLIGHT
BEGIN:STANDARD
TZOFFSETFROM:+0300
TZOFFSETTO:+0200
TZNAME:EET
DTSTART:20261025T010000
END:STANDARD
END:VTIMEZONE
BEGIN:VEVENT
DTSTART;TZID=Europe/Helsinki:20251103T100000
DTEND;TZID=Europe/Helsinki:20251103T150000
DTSTAMP:20260422T125547
CREATED:20251103T073755Z
LAST-MODIFIED:20251103T073755Z
UID:11123-1762164000-1762182000@somaliliitto.fi
SUMMARY:Yleinen neuvonta
DESCRIPTION:Suomen somalialaisten liiton yleinen neuvontapalvelu on auki maanantaisin ja keskiviikkoisin klo 10-15. Muina aikoina neuvonta ajanvarauksella\, katso yhteystiedot.
URL:https://somaliliitto.fi/tapahtumat/yleinen-neuvonta-53/
END:VEVENT
BEGIN:VEVENT
DTSTART;TZID=Europe/Helsinki:20251105T100000
DTEND;TZID=Europe/Helsinki:20251105T150000
DTSTAMP:20260422T125547
CREATED:20251103T073919Z
LAST-MODIFIED:20251103T073919Z
UID:11125-1762336800-1762354800@somaliliitto.fi
SUMMARY:Yleinen neuvonta
DESCRIPTION:Suomen somalialaisten liiton yleinen neuvontapalvelu on auki maanantaisin ja keskiviikkoisin klo 10-15. Muina aikoina neuvonta ajanvarauksella\, katso yhteystiedot.
URL:https://somaliliitto.fi/tapahtumat/yleinen-neuvonta-54/
END:VEVENT
BEGIN:VEVENT
DTSTART;TZID=Europe/Helsinki:20251110T100000
DTEND;TZID=Europe/Helsinki:20251110T150000
DTSTAMP:20260422T125547
CREATED:20251103T074025Z
LAST-MODIFIED:20251103T074025Z
UID:11127-1762768800-1762786800@somaliliitto.fi
SUMMARY:Yleinen neuvonta
DESCRIPTION:Suomen somalialaisten liiton yleinen neuvontapalvelu on auki maanantaisin ja keskiviikkoisin klo 10-15. Muina aikoina neuvonta ajanvarauksella\, katso yhteystiedot.
URL:https://somaliliitto.fi/tapahtumat/yleinen-neuvonta-55/
END:VEVENT
BEGIN:VEVENT
DTSTART;TZID=Europe/Helsinki:20251111T150000
DTEND;TZID=Europe/Helsinki:20251111T163000
DTSTAMP:20260422T125547
CREATED:20251103T080355Z
LAST-MODIFIED:20251103T080355Z
UID:11139-1762873200-1762878600@somaliliitto.fi
SUMMARY:Nuoret ja päihteet - missä mennään? -webinaari (TUVA)
DESCRIPTION:Somalialaistaustaisten nuorten päihteiden käyttö ja niihin kytkeytyvä rikollisuus -webinaari \n11.11.2025 klo 15.00 – 16.30 \nSomalialaistaustaisten nuorten päihdetilanne\nMahad Sheikh Musse\, A-klinikkasäätiön Jalma-hanke \nSomalialaistaustaiset nuoret ja rikosten seuraamukset\nHamze Ahmed\, Diakonissalaitoksen UNIT-palvelu \nVanhemmat ja nuorten päihteiden käyttö\nSugulle Salah\, SSL:n Turvalliset valinnat yhteisön tuella -hanke \nIlmoittaudu viimeistään 10.11.: https://forms.office.com/e/wBc6cNWKS4
URL:https://somaliliitto.fi/tapahtumat/nuoret-ja-paihteet-missa-mennaan-webinaari-tuva/
CATEGORIES:TUVA-hankkeen tapahtumat
END:VEVENT
BEGIN:VEVENT
DTSTART;TZID=Europe/Helsinki:20251112T100000
DTEND;TZID=Europe/Helsinki:20251112T150000
DTSTAMP:20260422T125547
CREATED:20251103T075058Z
LAST-MODIFIED:20251103T075058Z
UID:11129-1762941600-1762959600@somaliliitto.fi
SUMMARY:Yleinen neuvonta
DESCRIPTION:Suomen somalialaisten liiton yleinen neuvontapalvelu on auki maanantaisin ja keskiviikkoisin klo 10-15. Muina aikoina neuvonta ajanvarauksella\, katso yhteystiedot.
URL:https://somaliliitto.fi/tapahtumat/yleinen-neuvonta-56/
END:VEVENT
BEGIN:VEVENT
DTSTART;TZID=Europe/Helsinki:20251117T100000
DTEND;TZID=Europe/Helsinki:20251117T150000
DTSTAMP:20260422T125547
CREATED:20251103T075148Z
LAST-MODIFIED:20251103T075148Z
UID:11131-1763373600-1763391600@somaliliitto.fi
SUMMARY:Yleinen neuvonta
DESCRIPTION:Suomen somalialaisten liiton yleinen neuvontapalvelu on auki maanantaisin ja keskiviikkoisin klo 10-15. Muina aikoina neuvonta ajanvarauksella\, katso yhteystiedot.
URL:https://somaliliitto.fi/tapahtumat/yleinen-neuvonta-57/
END:VEVENT
BEGIN:VEVENT
DTSTART;TZID=Europe/Helsinki:20251117T170000
DTEND;TZID=Europe/Helsinki:20251117T183000
DTSTAMP:20260422T125547
CREATED:20251028T085738Z
LAST-MODIFIED:20251028T085738Z
UID:11119-1763398800-1763404200@somaliliitto.fi
SUMMARY:Kokemusasiantuntijailta (SAMANU)
DESCRIPTION:
URL:https://somaliliitto.fi/tapahtumat/kokemusasiantuntijailta-samanu-3/
LOCATION:Suomen somalialaisten liiton toimisto\, Opastinsilta 6J\, Helsinki\, 00520
CATEGORIES:SAMANU-hankkeen tapahtumat
END:VEVENT
BEGIN:VEVENT
DTSTART;TZID=Europe/Helsinki:20251119T100000
DTEND;TZID=Europe/Helsinki:20251119T150000
DTSTAMP:20260422T125547
CREATED:20251103T075254Z
LAST-MODIFIED:20251103T075254Z
UID:11133-1763546400-1763564400@somaliliitto.fi
SUMMARY:Yleinen neuvonta
DESCRIPTION:Suomen somalialaisten liiton yleinen neuvontapalvelu on auki maanantaisin ja keskiviikkoisin klo 10-15. Muina aikoina neuvonta ajanvarauksella\, katso yhteystiedot.
URL:https://somaliliitto.fi/tapahtumat/yleinen-neuvonta-58/
END:VEVENT
BEGIN:VEVENT
DTSTART;TZID=Europe/Helsinki:20251124T100000
DTEND;TZID=Europe/Helsinki:20251124T150000
DTSTAMP:20260422T125547
CREATED:20251103T075454Z
LAST-MODIFIED:20251103T075454Z
UID:11135-1763978400-1763996400@somaliliitto.fi
SUMMARY:Yleinen neuvonta
DESCRIPTION:Suomen somalialaisten liiton yleinen neuvontapalvelu on auki maanantaisin ja keskiviikkoisin klo 10-15. Muina aikoina neuvonta ajanvarauksella\, katso yhteystiedot.
URL:https://somaliliitto.fi/tapahtumat/yleinen-neuvonta-59/
END:VEVENT
BEGIN:VEVENT
DTSTART;TZID=Europe/Helsinki:20251126T100000
DTEND;TZID=Europe/Helsinki:20251126T150000
DTSTAMP:20260422T125547
CREATED:20251103T075550Z
LAST-MODIFIED:20251103T075550Z
UID:11137-1764151200-1764169200@somaliliitto.fi
SUMMARY:Yleinen neuvonta
DESCRIPTION:Suomen somalialaisten liiton yleinen neuvontapalvelu on auki maanantaisin ja keskiviikkoisin klo 10-15. Muina aikoina neuvonta ajanvarauksella\, katso yhteystiedot.
URL:https://somaliliitto.fi/tapahtumat/yleinen-neuvonta-60/
END:VEVENT
END:VCALENDAR