BEGIN:VCALENDAR
VERSION:2.0
PRODID:-//Suomen somalialaisten liitto - ECPv6.15.12.2//NONSGML v1.0//EN
CALSCALE:GREGORIAN
METHOD:PUBLISH
X-WR-CALNAME:Suomen somalialaisten liitto
X-ORIGINAL-URL:https://somaliliitto.fi
X-WR-CALDESC:Tapahtumat Suomen somalialaisten liitto
REFRESH-INTERVAL;VALUE=DURATION:PT1H
X-Robots-Tag:noindex
X-PUBLISHED-TTL:PT1H
BEGIN:VTIMEZONE
TZID:Europe/Helsinki
BEGIN:DAYLIGHT
TZOFFSETFROM:+0200
TZOFFSETTO:+0300
TZNAME:EEST
DTSTART:20240331T010000
END:DAYLIGHT
BEGIN:STANDARD
TZOFFSETFROM:+0300
TZOFFSETTO:+0200
TZNAME:EET
DTSTART:20241027T010000
END:STANDARD
BEGIN:DAYLIGHT
TZOFFSETFROM:+0200
TZOFFSETTO:+0300
TZNAME:EEST
DTSTART:20250330T010000
END:DAYLIGHT
BEGIN:STANDARD
TZOFFSETFROM:+0300
TZOFFSETTO:+0200
TZNAME:EET
DTSTART:20251026T010000
END:STANDARD
BEGIN:DAYLIGHT
TZOFFSETFROM:+0200
TZOFFSETTO:+0300
TZNAME:EEST
DTSTART:20260329T010000
END:DAYLIGHT
BEGIN:STANDARD
TZOFFSETFROM:+0300
TZOFFSETTO:+0200
TZNAME:EET
DTSTART:20261025T010000
END:STANDARD
END:VTIMEZONE
BEGIN:VEVENT
DTSTART;VALUE=DATE:20250620
DTEND;VALUE=DATE:20250621
DTSTAMP:20260423T010035
CREATED:20250605T074710Z
LAST-MODIFIED:20250605T074710Z
UID:11007-1750377600-1750463999@somaliliitto.fi
SUMMARY:Toimisto suljettu
DESCRIPTION:
URL:https://somaliliitto.fi/tapahtumat/toimisto-suljettu-6/
END:VEVENT
BEGIN:VEVENT
DTSTART;TZID=Europe/Helsinki:20250623T100000
DTEND;TZID=Europe/Helsinki:20250623T150000
DTSTAMP:20260423T010035
CREATED:20250605T074437Z
LAST-MODIFIED:20250605T074437Z
UID:11001-1750672800-1750690800@somaliliitto.fi
SUMMARY:Yleinen neuvonta
DESCRIPTION:Suomen somalialaisten liiton yleinen neuvontapalvelu on auki maanantaisin ja keskiviikkoisin klo 10-15. Muina aikoina neuvonta ajanvarauksella\, katso yhteystiedot.
URL:https://somaliliitto.fi/tapahtumat/yleinen-neuvonta-20/
END:VEVENT
BEGIN:VEVENT
DTSTART;TZID=Europe/Helsinki:20250625T100000
DTEND;TZID=Europe/Helsinki:20250625T150000
DTSTAMP:20260423T010035
CREATED:20250605T074521Z
LAST-MODIFIED:20250605T074521Z
UID:11003-1750845600-1750863600@somaliliitto.fi
SUMMARY:Yleinen neuvonta
DESCRIPTION:Suomen somalialaisten liiton yleinen neuvontapalvelu on auki maanantaisin ja keskiviikkoisin klo 10-15. Muina aikoina neuvonta ajanvarauksella\, katso yhteystiedot.
URL:https://somaliliitto.fi/tapahtumat/yleinen-neuvonta-21/
END:VEVENT
BEGIN:VEVENT
DTSTART;TZID=Europe/Helsinki:20250630T100000
DTEND;TZID=Europe/Helsinki:20250630T150000
DTSTAMP:20260423T010035
CREATED:20250605T074620Z
LAST-MODIFIED:20250605T074620Z
UID:11005-1751277600-1751295600@somaliliitto.fi
SUMMARY:Yleinen neuvonta
DESCRIPTION:Suomen somalialaisten liiton yleinen neuvontapalvelu on auki maanantaisin ja keskiviikkoisin klo 10-15. Muina aikoina neuvonta ajanvarauksella\, katso yhteystiedot.
URL:https://somaliliitto.fi/tapahtumat/yleinen-neuvonta-22/
END:VEVENT
BEGIN:VEVENT
DTSTART;VALUE=DATE:20250701
DTEND;VALUE=DATE:20250702
DTSTAMP:20260423T010035
CREATED:20250701T120548Z
LAST-MODIFIED:20250701T120548Z
UID:11019-1751328000-1751414399@somaliliitto.fi
SUMMARY:Somalian itsenäisyyspäivä
DESCRIPTION:
URL:https://somaliliitto.fi/tapahtumat/somalian-itsenaisyyspaiva/
END:VEVENT
BEGIN:VEVENT
DTSTART;TZID=Europe/Helsinki:20250708T100000
DTEND;TZID=Europe/Helsinki:20250708T150000
DTSTAMP:20260423T010035
CREATED:20250702T074936Z
LAST-MODIFIED:20250702T075320Z
UID:11025-1751968800-1751986800@somaliliitto.fi
SUMMARY:Yleinen neuvonta
DESCRIPTION:Suomen somalialaisten liiton yleinen neuvontapalvelu on heinäkuussa ( 7.-31.7.) auki poikkeuksellisesti tiistaisin ja torstaisin klo 10-15.
URL:https://somaliliitto.fi/tapahtumat/yleinen-neuvonta-23/
END:VEVENT
BEGIN:VEVENT
DTSTART;TZID=Europe/Helsinki:20250710T100000
DTEND;TZID=Europe/Helsinki:20250710T150000
DTSTAMP:20260423T010035
CREATED:20250702T075225Z
LAST-MODIFIED:20250702T075225Z
UID:11027-1752141600-1752159600@somaliliitto.fi
SUMMARY:Yleinen neuvonta
DESCRIPTION:Suomen somalialaisten liiton yleinen neuvontapalvelu on heinäkuussa ( 7.-31.7.) auki poikkeuksellisesti tiistaisin ja torstaisin klo 10-15.
URL:https://somaliliitto.fi/tapahtumat/yleinen-neuvonta-24/
END:VEVENT
BEGIN:VEVENT
DTSTART;TZID=Europe/Helsinki:20250715T100000
DTEND;TZID=Europe/Helsinki:20250715T150000
DTSTAMP:20260423T010035
CREATED:20250702T075545Z
LAST-MODIFIED:20250702T075545Z
UID:11029-1752573600-1752591600@somaliliitto.fi
SUMMARY:Yleinen neuvonta
DESCRIPTION:Suomen somalialaisten liiton yleinen neuvontapalvelu on heinäkuussa ( 7.-31.7.) auki poikkeuksellisesti tiistaisin ja torstaisin klo 10-15.
URL:https://somaliliitto.fi/tapahtumat/yleinen-neuvonta-25/
END:VEVENT
BEGIN:VEVENT
DTSTART;TZID=Europe/Helsinki:20250717T100000
DTEND;TZID=Europe/Helsinki:20250717T150000
DTSTAMP:20260423T010035
CREATED:20250702T075821Z
LAST-MODIFIED:20250702T075821Z
UID:11031-1752746400-1752764400@somaliliitto.fi
SUMMARY:Yleinen neuvonta
DESCRIPTION:Suomen somalialaisten liiton yleinen neuvontapalvelu on heinäkuussa ( 7.-31.7.) auki poikkeuksellisesti tiistaisin ja torstaisin klo 10-15.
URL:https://somaliliitto.fi/tapahtumat/yleinen-neuvonta-26/
END:VEVENT
BEGIN:VEVENT
DTSTART;TZID=Europe/Helsinki:20250722T100000
DTEND;TZID=Europe/Helsinki:20250722T150000
DTSTAMP:20260423T010035
CREATED:20250702T080022Z
LAST-MODIFIED:20250702T080022Z
UID:11033-1753178400-1753196400@somaliliitto.fi
SUMMARY:Yleinen neuvonta
DESCRIPTION:Suomen somalialaisten liiton yleinen neuvontapalvelu on heinäkuussa ( 7.-31.7.) auki poikkeuksellisesti tiistaisin ja torstaisin klo 10-15.
URL:https://somaliliitto.fi/tapahtumat/yleinen-neuvonta-27/
END:VEVENT
BEGIN:VEVENT
DTSTART;TZID=Europe/Helsinki:20250724T100000
DTEND;TZID=Europe/Helsinki:20250724T150000
DTSTAMP:20260423T010035
CREATED:20250702T080149Z
LAST-MODIFIED:20250702T080149Z
UID:11035-1753351200-1753369200@somaliliitto.fi
SUMMARY:Yleinen neuvonta
DESCRIPTION:Suomen somalialaisten liiton yleinen neuvontapalvelu on heinäkuussa ( 7.-31.7.) auki poikkeuksellisesti tiistaisin ja torstaisin klo 10-15.
URL:https://somaliliitto.fi/tapahtumat/yleinen-neuvonta-28/
END:VEVENT
BEGIN:VEVENT
DTSTART;TZID=Europe/Helsinki:20250729T100000
DTEND;TZID=Europe/Helsinki:20250729T150000
DTSTAMP:20260423T010035
CREATED:20250702T080522Z
LAST-MODIFIED:20250702T080522Z
UID:11037-1753783200-1753801200@somaliliitto.fi
SUMMARY:Yleinen neuvonta
DESCRIPTION:Suomen somalialaisten liiton yleinen neuvontapalvelu on heinäkuussa ( 7.-31.7.) auki poikkeuksellisesti tiistaisin ja torstaisin klo 10-15.
URL:https://somaliliitto.fi/tapahtumat/yleinen-neuvonta-29/
END:VEVENT
BEGIN:VEVENT
DTSTART;TZID=Europe/Helsinki:20250731T100000
DTEND;TZID=Europe/Helsinki:20250731T150000
DTSTAMP:20260423T010035
CREATED:20250702T080740Z
LAST-MODIFIED:20250702T080740Z
UID:11039-1753956000-1753974000@somaliliitto.fi
SUMMARY:Yleinen neuvonta
DESCRIPTION:Suomen somalialaisten liiton yleinen neuvontapalvelu on heinäkuussa ( 7.-31.7.) auki poikkeuksellisesti tiistaisin ja torstaisin klo 10-15.
URL:https://somaliliitto.fi/tapahtumat/yleinen-neuvonta-30/
END:VEVENT
BEGIN:VEVENT
DTSTART;TZID=Europe/Helsinki:20250818T100000
DTEND;TZID=Europe/Helsinki:20250818T150000
DTSTAMP:20260423T010035
CREATED:20250818T070921Z
LAST-MODIFIED:20250818T070921Z
UID:11051-1755511200-1755529200@somaliliitto.fi
SUMMARY:Yleinen neuvonta
DESCRIPTION:Suomen somalialaisten liiton yleinen neuvontapalvelu on auki maanantaisin ja keskiviikkoisin klo 10-15. Muina aikoina neuvonta ajanvarauksella\, katso yhteystiedot.
URL:https://somaliliitto.fi/tapahtumat/yleinen-neuvonta-31/
END:VEVENT
BEGIN:VEVENT
DTSTART;TZID=Europe/Helsinki:20250820T100000
DTEND;TZID=Europe/Helsinki:20250820T150000
DTSTAMP:20260423T010035
CREATED:20250818T071434Z
LAST-MODIFIED:20250818T071434Z
UID:11053-1755684000-1755702000@somaliliitto.fi
SUMMARY:Yleinen neuvonta
DESCRIPTION:Suomen somalialaisten liiton yleinen neuvontapalvelu on auki maanantaisin ja keskiviikkoisin klo 10-15. Muina aikoina neuvonta ajanvarauksella\, katso yhteystiedot.
URL:https://somaliliitto.fi/tapahtumat/yleinen-neuvonta-32/
END:VEVENT
BEGIN:VEVENT
DTSTART;TZID=Europe/Helsinki:20250825T100000
DTEND;TZID=Europe/Helsinki:20250825T150000
DTSTAMP:20260423T010035
CREATED:20250818T071521Z
LAST-MODIFIED:20250818T071521Z
UID:11055-1756116000-1756134000@somaliliitto.fi
SUMMARY:Yleinen neuvonta
DESCRIPTION:Suomen somalialaisten liiton yleinen neuvontapalvelu on auki maanantaisin ja keskiviikkoisin klo 10-15. Muina aikoina neuvonta ajanvarauksella\, katso yhteystiedot.
URL:https://somaliliitto.fi/tapahtumat/yleinen-neuvonta-33/
END:VEVENT
BEGIN:VEVENT
DTSTART;TZID=Europe/Helsinki:20250827T100000
DTEND;TZID=Europe/Helsinki:20250827T150000
DTSTAMP:20260423T010035
CREATED:20250818T071600Z
LAST-MODIFIED:20250818T071600Z
UID:11057-1756288800-1756306800@somaliliitto.fi
SUMMARY:Yleinen neuvonta
DESCRIPTION:Suomen somalialaisten liiton yleinen neuvontapalvelu on auki maanantaisin ja keskiviikkoisin klo 10-15. Muina aikoina neuvonta ajanvarauksella\, katso yhteystiedot.
URL:https://somaliliitto.fi/tapahtumat/yleinen-neuvonta-34/
END:VEVENT
BEGIN:VEVENT
DTSTART;TZID=Europe/Helsinki:20250901T100000
DTEND;TZID=Europe/Helsinki:20250901T150000
DTSTAMP:20260423T010035
CREATED:20250827T082241Z
LAST-MODIFIED:20250827T082241Z
UID:11060-1756720800-1756738800@somaliliitto.fi
SUMMARY:Yleinen neuvonta
DESCRIPTION:Suomen somalialaisten liiton yleinen neuvontapalvelu on auki maanantaisin ja keskiviikkoisin klo 10-15. Muina aikoina neuvonta ajanvarauksella\, katso yhteystiedot.
URL:https://somaliliitto.fi/tapahtumat/yleinen-neuvonta-35/
LOCATION:Suomen somalialaisten liiton toimisto\, Opastinsilta 6J\, Helsinki\, 00520
END:VEVENT
BEGIN:VEVENT
DTSTART;TZID=Europe/Helsinki:20250903T100000
DTEND;TZID=Europe/Helsinki:20250903T150000
DTSTAMP:20260423T010035
CREATED:20250827T082334Z
LAST-MODIFIED:20250827T082334Z
UID:11062-1756893600-1756911600@somaliliitto.fi
SUMMARY:Yleinen neuvonta
DESCRIPTION:Suomen somalialaisten liiton yleinen neuvontapalvelu on auki maanantaisin ja keskiviikkoisin klo 10-15. Muina aikoina neuvonta ajanvarauksella\, katso yhteystiedot.
URL:https://somaliliitto.fi/tapahtumat/yleinen-neuvonta-36/
LOCATION:Suomen somalialaisten liiton toimisto\, Opastinsilta 6J\, Helsinki\, 00520
END:VEVENT
BEGIN:VEVENT
DTSTART;TZID=Europe/Helsinki:20250908T100000
DTEND;TZID=Europe/Helsinki:20250908T150000
DTSTAMP:20260423T010036
CREATED:20250827T082432Z
LAST-MODIFIED:20250827T082432Z
UID:11064-1757325600-1757343600@somaliliitto.fi
SUMMARY:Yleinen neuvonta
DESCRIPTION:Suomen somalialaisten liiton yleinen neuvontapalvelu on auki maanantaisin ja keskiviikkoisin klo 10-15. Muina aikoina neuvonta ajanvarauksella\, katso yhteystiedot.
URL:https://somaliliitto.fi/tapahtumat/yleinen-neuvonta-37/
LOCATION:Suomen somalialaisten liiton toimisto\, Opastinsilta 6J\, Helsinki\, 00520
END:VEVENT
BEGIN:VEVENT
DTSTART;TZID=Europe/Helsinki:20250910T100000
DTEND;TZID=Europe/Helsinki:20250910T150000
DTSTAMP:20260423T010036
CREATED:20250827T082542Z
LAST-MODIFIED:20250827T082542Z
UID:11066-1757498400-1757516400@somaliliitto.fi
SUMMARY:Yleinen neuvonta
DESCRIPTION:Suomen somalialaisten liiton yleinen neuvontapalvelu on auki maanantaisin ja keskiviikkoisin klo 10-15. Muina aikoina neuvonta ajanvarauksella\, katso yhteystiedot.
URL:https://somaliliitto.fi/tapahtumat/yleinen-neuvonta-38/
LOCATION:Suomen somalialaisten liiton toimisto\, Opastinsilta 6J\, Helsinki\, 00520
END:VEVENT
BEGIN:VEVENT
DTSTART;TZID=Europe/Helsinki:20250915T100000
DTEND;TZID=Europe/Helsinki:20250915T150000
DTSTAMP:20260423T010036
CREATED:20250827T082634Z
LAST-MODIFIED:20250827T082634Z
UID:11068-1757930400-1757948400@somaliliitto.fi
SUMMARY:Yleinen neuvonta
DESCRIPTION:Suomen somalialaisten liiton yleinen neuvontapalvelu on auki maanantaisin ja keskiviikkoisin klo 10-15. Muina aikoina neuvonta ajanvarauksella\, katso yhteystiedot.
URL:https://somaliliitto.fi/tapahtumat/yleinen-neuvonta-39/
LOCATION:Suomen somalialaisten liiton toimisto\, Opastinsilta 6J\, Helsinki\, 00520
END:VEVENT
BEGIN:VEVENT
DTSTART;TZID=Europe/Helsinki:20250917T100000
DTEND;TZID=Europe/Helsinki:20250917T150000
DTSTAMP:20260423T010036
CREATED:20250827T082742Z
LAST-MODIFIED:20250827T082742Z
UID:11070-1758103200-1758121200@somaliliitto.fi
SUMMARY:Yleinen neuvonta
DESCRIPTION:Suomen somalialaisten liiton yleinen neuvontapalvelu on auki maanantaisin ja keskiviikkoisin klo 10-15. Muina aikoina neuvonta ajanvarauksella\, katso yhteystiedot.
URL:https://somaliliitto.fi/tapahtumat/yleinen-neuvonta-40/
LOCATION:Suomen somalialaisten liiton toimisto\, Opastinsilta 6J\, Helsinki\, 00520
END:VEVENT
BEGIN:VEVENT
DTSTART;TZID=Europe/Helsinki:20250922T100000
DTEND;TZID=Europe/Helsinki:20250922T150000
DTSTAMP:20260423T010036
CREATED:20250827T082833Z
LAST-MODIFIED:20250827T082833Z
UID:11072-1758535200-1758553200@somaliliitto.fi
SUMMARY:Yleinen neuvonta
DESCRIPTION:Suomen somalialaisten liiton yleinen neuvontapalvelu on auki maanantaisin ja keskiviikkoisin klo 10-15. Muina aikoina neuvonta ajanvarauksella\, katso yhteystiedot.
URL:https://somaliliitto.fi/tapahtumat/yleinen-neuvonta-41/
LOCATION:Suomen somalialaisten liiton toimisto\, Opastinsilta 6J\, Helsinki\, 00520
END:VEVENT
BEGIN:VEVENT
DTSTART;TZID=Europe/Helsinki:20250924T100000
DTEND;TZID=Europe/Helsinki:20250924T150000
DTSTAMP:20260423T010036
CREATED:20250827T082957Z
LAST-MODIFIED:20250827T082957Z
UID:11074-1758708000-1758726000@somaliliitto.fi
SUMMARY:Yleinen neuvonta
DESCRIPTION:Suomen somalialaisten liiton yleinen neuvontapalvelu on auki maanantaisin ja keskiviikkoisin klo 10-15. Muina aikoina neuvonta ajanvarauksella\, katso yhteystiedot.
URL:https://somaliliitto.fi/tapahtumat/yleinen-neuvonta-42/
LOCATION:Suomen somalialaisten liiton toimisto\, Opastinsilta 6J\, Helsinki\, 00520
END:VEVENT
BEGIN:VEVENT
DTSTART;TZID=Europe/Helsinki:20250929T100000
DTEND;TZID=Europe/Helsinki:20250929T150000
DTSTAMP:20260423T010036
CREATED:20250827T083051Z
LAST-MODIFIED:20250827T083051Z
UID:11076-1759140000-1759158000@somaliliitto.fi
SUMMARY:Yleinen neuvonta
DESCRIPTION:Suomen somalialaisten liiton yleinen neuvontapalvelu on auki maanantaisin ja keskiviikkoisin klo 10-15. Muina aikoina neuvonta ajanvarauksella\, katso yhteystiedot.
URL:https://somaliliitto.fi/tapahtumat/yleinen-neuvonta-43/
LOCATION:Suomen somalialaisten liiton toimisto\, Opastinsilta 6J\, Helsinki\, 00520
END:VEVENT
BEGIN:VEVENT
DTSTART;TZID=Europe/Helsinki:20251001T100000
DTEND;TZID=Europe/Helsinki:20251001T150000
DTSTAMP:20260423T010036
CREATED:20251001T093426Z
LAST-MODIFIED:20251001T093426Z
UID:11093-1759312800-1759330800@somaliliitto.fi
SUMMARY:Yleinen neuvonta
DESCRIPTION:Suomen somalialaisten liiton yleinen neuvontapalvelu on auki maanantaisin ja keskiviikkoisin klo 10-15. Muina aikoina neuvonta ajanvarauksella\, katso yhteystiedot.
URL:https://somaliliitto.fi/tapahtumat/yleinen-neuvonta-44/
END:VEVENT
BEGIN:VEVENT
DTSTART;TZID=Europe/Helsinki:20251006T100000
DTEND;TZID=Europe/Helsinki:20251006T150000
DTSTAMP:20260423T010036
CREATED:20251001T093511Z
LAST-MODIFIED:20251001T093511Z
UID:11095-1759744800-1759762800@somaliliitto.fi
SUMMARY:Yleinen neuvonta
DESCRIPTION:Suomen somalialaisten liiton yleinen neuvontapalvelu on auki maanantaisin ja keskiviikkoisin klo 10-15. Muina aikoina neuvonta ajanvarauksella\, katso yhteystiedot.
URL:https://somaliliitto.fi/tapahtumat/yleinen-neuvonta-45/
END:VEVENT
BEGIN:VEVENT
DTSTART;TZID=Europe/Helsinki:20251008T100000
DTEND;TZID=Europe/Helsinki:20251008T150000
DTSTAMP:20260423T010036
CREATED:20251001T093559Z
LAST-MODIFIED:20251001T093559Z
UID:11097-1759917600-1759935600@somaliliitto.fi
SUMMARY:Yleinen neuvonta
DESCRIPTION:Suomen somalialaisten liiton yleinen neuvontapalvelu on auki maanantaisin ja keskiviikkoisin klo 10-15. Muina aikoina neuvonta ajanvarauksella\, katso yhteystiedot.
URL:https://somaliliitto.fi/tapahtumat/yleinen-neuvonta-46/
END:VEVENT
BEGIN:VEVENT
DTSTART;TZID=Europe/Helsinki:20251013T100000
DTEND;TZID=Europe/Helsinki:20251013T150000
DTSTAMP:20260423T010036
CREATED:20251001T093707Z
LAST-MODIFIED:20251001T093707Z
UID:11099-1760349600-1760367600@somaliliitto.fi
SUMMARY:Yleinen neuvonta
DESCRIPTION:Suomen somalialaisten liiton yleinen neuvontapalvelu on auki maanantaisin ja keskiviikkoisin klo 10-15. Muina aikoina neuvonta ajanvarauksella\, katso yhteystiedot.
URL:https://somaliliitto.fi/tapahtumat/yleinen-neuvonta-47/
END:VEVENT
END:VCALENDAR